BEGIN:VCALENDAR
VERSION:2.0
PRODID:-//Grankulla musikinstitut - ECPv6.8.3//NONSGML v1.0//EN
CALSCALE:GREGORIAN
METHOD:PUBLISH
X-WR-CALNAME:Grankulla musikinstitut
X-ORIGINAL-URL:https://kaumo.fi/sv
X-WR-CALDESC:Events for Grankulla musikinstitut
REFRESH-INTERVAL;VALUE=DURATION:PT1H
X-Robots-Tag:noindex
X-PUBLISHED-TTL:PT1H
BEGIN:VTIMEZONE
TZID:UTC
BEGIN:STANDARD
TZOFFSETFROM:+0000
TZOFFSETTO:+0000
TZNAME:UTC
DTSTART:20260101T000000
END:STANDARD
END:VTIMEZONE
BEGIN:VEVENT
DTSTART;TZID=UTC:20260422T190000
DTEND;TZID=UTC:20260422T190000
DTSTAMP:20260422T104147
CREATED:20251119T135541Z
LAST-MODIFIED:20260327T112055Z
UID:9110-1776884400-1776884400@kaumo.fi
SUMMARY:{:fi}Poppareiden konsertti - huom! uusi paikka{:}{:sv}Popparnas konsert - obs ny plats!{:}
DESCRIPTION:Fritt inträde.
URL:https://kaumo.fi/sv/event/poppareiden-konsertti-5/
LOCATION:Vallmogårds festsal
END:VEVENT
BEGIN:VEVENT
DTSTART;TZID=UTC:20260424T180000
DTEND;TZID=UTC:20260424T193000
DTSTAMP:20260422T104147
CREATED:20250527T124855Z
LAST-MODIFIED:20260319T122915Z
UID:8768-1777053600-1777059000@kaumo.fi
SUMMARY:{:fi}Lauluja rakkaudesta ja ystävyydestä - hyväntekeväisyyskonsertti{:}{:sv}Sånger om kärlek och vänskap - välgörenhetskonsert{:}
DESCRIPTION:I konserten uppträder lärare vid Grankulla musikinstitut. Vi får höra kända örhängen från såväl den klassiska som populärmusiken\, med temat kärlek och vänskap. \nKonserten är ca 1\,5 h timmar lång inkl. paus. \nBiljetter 12 e eller 18 e (innehåller pausservering). Gratis för elever vid Kaumo. En del av intäkterna doneras till Grani Närhjälp rf\, vars verksamhet strävar till att minska ensamhet. \nKonserten arrangeras av Grankulla musikinstituts lärarförening rf\, i samarbete med Grani Närhjälp rf och Grankulla musikinstitut.
URL:https://kaumo.fi/sv/event/opettajayhdistyksen-konsertti/
LOCATION:Nya Paviljongen
ATTACH;FMTTYPE=image/jpeg:https://kaumo.fi/wp-content/uploads/2026/01/opettajakonsertti-20260424-juliste.jpg
END:VEVENT
BEGIN:VEVENT
DTSTART;TZID=UTC:20260427T170000
DTEND;TZID=UTC:20260427T173000
DTSTAMP:20260422T104147
CREATED:20250814T083427Z
LAST-MODIFIED:20260211T113553Z
UID:8851-1777309200-1777311000@kaumo.fi
SUMMARY:{:fi}Pikkupuput piilosilla - Pienten muskarilaisten kevätkonsertti (0-3-vuotiaat){:}{:sv}Pikkupuput piilosilla - De yngre musiklekgruppernas våravslutningskonsert (0-3 år){:}
DESCRIPTION:Musiklekens våravslutningskonsert för de yngre musiklekgrupperna (0-3-åringar). \nFritt inträde. \n 
URL:https://kaumo.fi/sv/event/muskareiden-kevatkonsertti/
LOCATION:Nya Paviljongen
END:VEVENT
BEGIN:VEVENT
DTSTART;TZID=UTC:20260427T180000
DTEND;TZID=UTC:20260427T184500
DTSTAMP:20260422T104147
CREATED:20260211T110609Z
LAST-MODIFIED:20260211T114323Z
UID:9291-1777312800-1777315500@kaumo.fi
SUMMARY:{:fi}Hokkus pokkus pii poo puu! - Isompien muskarilaisten ja soittoryhmien kevätkonsertti{:}{:sv}Hokkus pokkus pii poo puu! - våravslutningskonsert för de äldre musiklekgrupperna och instrumentgrupperna{:}
DESCRIPTION:Hokkus pokkus pii poo puu! – Sirkus Graniitti saapuu kaupunkiin! – de äldre musiklekgrupperna och instrumentgrupperna deltar (4-åringar ->). \nDet är fritt inträde till konserten.
URL:https://kaumo.fi/sv/event/hokkus-pokkus-pii-poo-puu-isompien-muskarilaisten-ja-soittoryhmien-kevatkonsertti/
LOCATION:Nya Paviljongen
ATTACH;FMTTYPE=image/png:https://kaumo.fi/wp-content/uploads/2026/02/hokkus-pokkus-muskarikonsertti-202604.png
END:VEVENT
BEGIN:VEVENT
DTSTART;TZID=UTC:20260428T180000
DTEND;TZID=UTC:20260428T180000
DTSTAMP:20260422T104147
CREATED:20251120T092939Z
LAST-MODIFIED:20251120T093349Z
UID:9127-1777399200-1777399200@kaumo.fi
SUMMARY:{:fi}Viuluilta nro 1{:}{:sv}Violinafton nr 1{:}
DESCRIPTION:Hilkka Norjanens violinelever uppträder. Fritt inträde.
URL:https://kaumo.fi/sv/event/viuluilta-nro-1/
LOCATION:Vallmogårds festsal
END:VEVENT
BEGIN:VEVENT
DTSTART;TZID=UTC:20260428T191500
DTEND;TZID=UTC:20260428T191500
DTSTAMP:20260422T104147
CREATED:20251120T093218Z
LAST-MODIFIED:20251120T093240Z
UID:9132-1777403700-1777403700@kaumo.fi
SUMMARY:{:fi}Viuluilta nro 2{:}{:sv}Violinafton nr 2{:}
DESCRIPTION:Hilkka Norjanens violinelever uppträder. Fritt inträde.
URL:https://kaumo.fi/sv/event/viuluilta-nro-2/
LOCATION:Vallmogårds festsal
END:VEVENT
BEGIN:VEVENT
DTSTART;TZID=UTC:20260429T183000
DTEND;TZID=UTC:20260429T183000
DTSTAMP:20260422T104147
CREATED:20251118T091254Z
LAST-MODIFIED:20251118T091312Z
UID:9106-1777487400-1777487400@kaumo.fi
SUMMARY:{:fi}Pianokonsertti{:}{:sv}Pianokonsert{:}
DESCRIPTION:Noora Meriläinens elever uppträder. Fritt inträde.
URL:https://kaumo.fi/sv/event/pianokonsertti-47/
LOCATION:Vallmogårds festsal
END:VEVENT
BEGIN:VEVENT
DTSTART;VALUE=DATE:20260501
DTEND;VALUE=DATE:20260502
DTSTAMP:20260422T104147
CREATED:20250522T102606Z
LAST-MODIFIED:20250522T103617Z
UID:8650-1777593600-1777679999@kaumo.fi
SUMMARY:{:fi}Vappu - ei opetusta{:}{:sv}Första maj - ingen undervisning{:}
DESCRIPTION:Första maj är det ingen undervisning.
URL:https://kaumo.fi/sv/event/vappu-8/
END:VEVENT
BEGIN:VEVENT
DTSTART;TZID=UTC:20260506T170000
DTEND;TZID=UTC:20260506T173000
DTSTAMP:20260422T104147
CREATED:20260330T071918Z
LAST-MODIFIED:20260330T072009Z
UID:9504-1778086800-1778088600@kaumo.fi
SUMMARY:{:fi}Pianokonsertti{:}{:sv}Pianokonsert{:}
DESCRIPTION:Natalia Kyyhkynens elever uppträder. Fritt inträde.
URL:https://kaumo.fi/sv/event/pianokonsertti-51/
LOCATION:Vallmogårds festsal
END:VEVENT
BEGIN:VEVENT
DTSTART;TZID=UTC:20260506T190000
DTEND;TZID=UTC:20260506T190000
DTSTAMP:20260422T104147
CREATED:20251215T131739Z
LAST-MODIFIED:20260326T131315Z
UID:9181-1778094000-1778094000@kaumo.fi
SUMMARY:{:fi}Pianokonsertti - uusi kellonaika{:}{:sv}Pianokonsert - nytt klockslag{:}
DESCRIPTION:Oona Sinkkos elever uppträder. Fritt inträde.
URL:https://kaumo.fi/sv/event/pianokonsertti-50/
LOCATION:Vallmogårds festsal
END:VEVENT
BEGIN:VEVENT
DTSTART;TZID=UTC:20260507T173000
DTEND;TZID=UTC:20260507T180000
DTSTAMP:20260422T104147
CREATED:20260414T121452Z
LAST-MODIFIED:20260414T121552Z
UID:9509-1778175000-1778176800@kaumo.fi
SUMMARY:{:fi}Loppusoitteloinen{:}{:sv}En liten slutspelning{:}
DESCRIPTION:Heljä-Maari Manninens altviolin- och violinelever uppträder. Fritt inträde.
URL:https://kaumo.fi/sv/event/loppusoitteloinen/
LOCATION:Vallmogårds festsal
END:VEVENT
BEGIN:VEVENT
DTSTART;TZID=UTC:20260507T190000
DTEND;TZID=UTC:20260507T200000
DTSTAMP:20260422T104147
CREATED:20260303T083647Z
LAST-MODIFIED:20260303T083744Z
UID:9347-1778180400-1778184000@kaumo.fi
SUMMARY:{:fi}Kitaristien kevään oppilasmatinea{:}{:sv}Gitarristernas vårmatiné{:}
DESCRIPTION:Kai Pihlströms och Selim Rantapuros gitarrelever uppträder.
URL:https://kaumo.fi/sv/event/kitaristien-oppilasmatinea/
LOCATION:Vallmogårds festsal
END:VEVENT
BEGIN:VEVENT
DTSTART;TZID=UTC:20260511T180000
DTEND;TZID=UTC:20260511T180000
DTSTAMP:20260422T104147
CREATED:20250820T101256Z
LAST-MODIFIED:20260209T131618Z
UID:8867-1778522400-1778522400@kaumo.fi
SUMMARY:{:fi}Tanssitaivas - puhaltajien ja lyömäsoittajien konsertti{:}{:sv}Blåsarnas och slagverkarnas konsert{:}
DESCRIPTION:Blåsarna och slagverkarna i dansens virvlar. Fritt inträde.
URL:https://kaumo.fi/sv/event/puhaltajien-ja-loymasoittajien-konsertti/
LOCATION:Nya Paviljongen
END:VEVENT
BEGIN:VEVENT
DTSTART;TZID=UTC:20260512T190000
DTEND;TZID=UTC:20260512T190000
DTSTAMP:20260422T104147
CREATED:20251208T085124Z
LAST-MODIFIED:20251208T085144Z
UID:9171-1778612400-1778612400@kaumo.fi
SUMMARY:{:fi}Matalien jousien konsertti{:}{:sv}De låga stråkarnas konsert{:}
DESCRIPTION:Fritt inträde.
URL:https://kaumo.fi/sv/event/matalien-jousien-konsertti-13/
LOCATION:Vallmogårds festsal
END:VEVENT
BEGIN:VEVENT
DTSTART;TZID=UTC:20260513T190000
DTEND;TZID=UTC:20260513T190000
DTSTAMP:20260422T104147
CREATED:20251120T084316Z
LAST-MODIFIED:20260311T121303Z
UID:9123-1778698800-1778698800@kaumo.fi
SUMMARY:{:fi}Laulajien konsertti{:}{:sv}Sångarnas konsert{:}
DESCRIPTION:Angelika Klas-Fagerlunds sångelever uppträder. Fritt inträde.
URL:https://kaumo.fi/sv/event/laulajien-konsertti-11/
LOCATION:Vallmogårds festsal
END:VEVENT
BEGIN:VEVENT
DTSTART;VALUE=DATE:20260514
DTEND;VALUE=DATE:20260515
DTSTAMP:20260422T104147
CREATED:20250522T102759Z
LAST-MODIFIED:20250522T103554Z
UID:8657-1778716800-1778803199@kaumo.fi
SUMMARY:{:fi}Helatorstai - ei opetusta{:}{:sv}Kristi himmelsfärdsdag - ingen undervisning{:}
DESCRIPTION:På Kristi himmelsfärdsdag är det ingen undervisning.
URL:https://kaumo.fi/sv/event/helatorstai-5/
END:VEVENT
BEGIN:VEVENT
DTSTART;TZID=UTC:20260516T150000
DTEND;TZID=UTC:20260516T153000
DTSTAMP:20260422T104147
CREATED:20260312T083921Z
LAST-MODIFIED:20260312T083948Z
UID:9424-1778943600-1778945400@kaumo.fi
SUMMARY:{:fi}Viulukonsertti{:}{:sv}Violinkonsert{:}
DESCRIPTION:Kirsi Manninens elever uppträder. Fritt inträde.
URL:https://kaumo.fi/sv/event/viulukonsertti-23/
LOCATION:Vallmogård annex
END:VEVENT
BEGIN:VEVENT
DTSTART;TZID=UTC:20260518T180000
DTEND;TZID=UTC:20260518T193000
DTSTAMP:20260422T104147
CREATED:20250522T103039Z
LAST-MODIFIED:20250522T103258Z
UID:8664-1779127200-1779132600@kaumo.fi
SUMMARY:{:fi}Kevätlukukauden päätöskonsertti{:}{:sv}Vårterminens avslutningskonsert{:}
DESCRIPTION:Läsåret 2025-2026 avslutas med en festlig vårkonsert. Utdelning av avgångsbetyg och stipendier. Fritt inträde. Varmt välkommen hela släkten!
URL:https://kaumo.fi/sv/event/kevatkonsertti-6/
LOCATION:Nya Paviljongen
END:VEVENT
BEGIN:VEVENT
DTSTART;VALUE=DATE:20260525
DTEND;VALUE=DATE:20260526
DTSTAMP:20260422T104147
CREATED:20250522T103343Z
LAST-MODIFIED:20250522T103505Z
UID:8673-1779667200-1779753599@kaumo.fi
SUMMARY:{:fi}Opetus päättyy{:}{:sv}Den sista undervisningsdagen{:}
DESCRIPTION:Den sista undervisningsdagen kan vara en annan för elev på allmänna avdelningen. Kurser eller annan gruppundervisning kan sluta tidigare. Dessutom påverkas den sista undervisningsdagen av konserter\, examen och andra gruppsituationer under läsåret.
URL:https://kaumo.fi/sv/event/opetus-paattyy-5/
END:VEVENT
BEGIN:VEVENT
DTSTART;TZID=UTC:20260525T180000
DTEND;TZID=UTC:20260525T184500
DTSTAMP:20260422T104147
CREATED:20260210T120855Z
LAST-MODIFIED:20260223T112221Z
UID:9280-1779732000-1779734700@kaumo.fi
SUMMARY:{:fi}Vaskien kevätsoittajaiset{:}{:sv}Bleckblåsarnas vårspelning{:}
DESCRIPTION:Tuija Sottinens trombon- och barytonelever och Albinus Borgs trumpetelever uppträder till det begynnande sommarlovets ära med stycken de övat in under våren. \nPlats: Kukkapuro-salen i Villa Breda. Fritt inträde.
URL:https://kaumo.fi/sv/event/matalien-vaskien-soittajaiset-3/
LOCATION:Villa Breda
END:VEVENT
BEGIN:VEVENT
DTSTART;VALUE=DATE:20260608
DTEND;VALUE=DATE:20260613
DTSTAMP:20260422T104147
CREATED:20260326T132711Z
LAST-MODIFIED:20260326T132711Z
UID:9471-1780876800-1781308799@kaumo.fi
SUMMARY:{:fi}Kesäleiri: MusaKesä tulee taas!{:}{:sv}Sommarläger: Musiksommar {:}
DESCRIPTION:På Musiksommar musiklägret spelar och sjunger man glatt i början av sommarlovet. För att delta på lägret bör man ha minst ett års spelerfarenhet. På lägret spelas det för det mesta som en stor orkester\, men under dagen delas man upp i smågrupper. Dessutom komponerar vi egna låtar\, gymnastiserar\, spelar och rör oss ute. Med kommer man om man spelar orkester- och träblåsinstrument\, gitarr\, bas\, harmonika\, piano och kantele. Lägrets pris inkluderar mat ioch och mellanmål. Maten serveras i Granhultsskolan. \nLärarna är Pauliina Lerche\, Heljä-Maari Manninen och Otto Eskelinen. \nLägret hålls i Nya Paviljongen. Lägret avslutas med en stor slutkonsert fre 12.6. \nAnmäl till medborgarinstitutet\nAnmälan sker via telefon till Grankulla medborgarinstitut (tfn. 050-4116 404). När du anmäler barnet till kursen\, kom ihåg att meddela barnets instrument\, hur lång erfarenheten av instrumentet är och huruvida barnet har matallergier. \nVill du veta mera?\nMer info hittar du på medborgarinstitutets sida Petra medborgarinstitut.
URL:https://kaumo.fi/sv/event/kesaleiri-musakesa-tulee-taas/
LOCATION:Nya Paviljongen
END:VEVENT
BEGIN:VEVENT
DTSTART;TZID=UTC:20260928T190000
DTEND;TZID=UTC:20260928T190000
DTSTAMP:20260422T104147
CREATED:20260305T084731Z
LAST-MODIFIED:20260305T084731Z
UID:9355-1790622000-1790622000@kaumo.fi
SUMMARY:{:fi}Musiikkia Vallmogårdissa - konserttisarja: Puhaltajien pieni iltasoitto{:}{:sv}Musik i Vallmogård-konsertserien: Blåsarnas lilla kvällsspelning{:}
DESCRIPTION:Konserten är en del av “Musik i Vallmogård”-konsertserien och genomförs som ett samarbete mellan Grankulla musikinstitut och Grankulla stad. Det är fritt inträde till konserten. \nVarmt välkommen!
URL:https://kaumo.fi/sv/event/musiikkia-vallmogardissa-konserttisarja-puhaltajien-pieni-iltasoitto/
LOCATION:Vallmogårds festsal
END:VEVENT
BEGIN:VEVENT
DTSTART;TZID=UTC:20261001T180000
DTEND;TZID=UTC:20261001T180000
DTSTAMP:20260422T104147
CREATED:20260311T092357Z
LAST-MODIFIED:20260417T111807Z
UID:9399-1790877600-1790877600@kaumo.fi
SUMMARY:{:fi}Jouset lavalla!{:}{:sv}Stråkarna intar scenen!{:}
DESCRIPTION:Stråkorkestrarna Presto och Kamarijouset-Kammarstråkarna uppträder under ledning av Hilkka Norjanen. \nFritt inträde.
URL:https://kaumo.fi/sv/event/jouset-lavalla-5/
LOCATION:Grankulla kyrka
END:VEVENT
BEGIN:VEVENT
DTSTART;TZID=UTC:20261027T190000
DTEND;TZID=UTC:20261027T190000
DTSTAMP:20260422T104147
CREATED:20260305T085551Z
LAST-MODIFIED:20260318T132113Z
UID:9367-1793127600-1793127600@kaumo.fi
SUMMARY:{:fi}Musiikkia Vallmogårdissa - konserttisarja: Tanssitaanko?{:}{:sv}Musik i Vallmogård-konsertserien{:}
DESCRIPTION:Konserten är en del av “Musik i Vallmogård”-konsertserien och genomförs som ett samarbete mellan Grankulla musikinstitut och Grankulla stad. Det är fritt inträde till konserten. \nVarmt välkommen!
URL:https://kaumo.fi/sv/event/musiikkia-vallmogardissa-konserttisarja-12/
LOCATION:Vallmogårds festsal
END:VEVENT
BEGIN:VEVENT
DTSTART;TZID=UTC:20261111T190000
DTEND;TZID=UTC:20261111T190000
DTSTAMP:20260422T104147
CREATED:20260417T111259Z
LAST-MODIFIED:20260417T111545Z
UID:9533-1794423600-1794423600@kaumo.fi
SUMMARY:{:fi}Popparit esiintyvät{:}{:sv}Popparna uppträder{:}
DESCRIPTION:Fritt inträde.
URL:https://kaumo.fi/sv/event/popparit-esiintyvat/
LOCATION:Grankulla ungdomsgård
END:VEVENT
BEGIN:VEVENT
DTSTART;TZID=UTC:20261117T190000
DTEND;TZID=UTC:20261117T190000
DTSTAMP:20260422T104147
CREATED:20260417T120002Z
LAST-MODIFIED:20260417T120039Z
UID:9581-1794942000-1794942000@kaumo.fi
SUMMARY:{:fi}Pianokonsertti{:}{:sv}Pianokonsert{:}
DESCRIPTION:Seppo Tarhios pianoelever uppträder. Fritt inträde.
URL:https://kaumo.fi/sv/event/pianokonsertti-54/
LOCATION:Vallmogårds festsal
END:VEVENT
BEGIN:VEVENT
DTSTART;TZID=UTC:20261118T183000
DTEND;TZID=UTC:20261118T183000
DTSTAMP:20260422T104147
CREATED:20260417T115416Z
LAST-MODIFIED:20260417T115440Z
UID:9571-1795026600-1795026600@kaumo.fi
SUMMARY:{:fi}Pianokonsertti{:}{:sv}Pianokonsert{:}
DESCRIPTION:Noora Meriläinens pianoelever uppträder. Fritt inträde.
URL:https://kaumo.fi/sv/event/pianokonsertti-52/
LOCATION:Vallmogårds festsal
END:VEVENT
BEGIN:VEVENT
DTSTART;TZID=UTC:20261123T180000
DTEND;TZID=UTC:20261123T180000
DTSTAMP:20260422T104147
CREATED:20260417T112624Z
LAST-MODIFIED:20260417T112655Z
UID:9548-1795456800-1795456800@kaumo.fi
SUMMARY:{:fi}Viuluilta nro 1{:}{:sv}Violinafton nr 1{:}
DESCRIPTION:Hilkka Norjanens violinelever uppträder. Fritt inträde.
URL:https://kaumo.fi/sv/event/viuluilta-nro-1-2/
LOCATION:Vallmogårds festsal
END:VEVENT
BEGIN:VEVENT
DTSTART;TZID=UTC:20261123T191500
DTEND;TZID=UTC:20261123T191500
DTSTAMP:20260422T104147
CREATED:20260417T112826Z
LAST-MODIFIED:20260417T112850Z
UID:9552-1795461300-1795461300@kaumo.fi
SUMMARY:{:fi}Viuluilta nro 2{:}{:sv}Violinafton nr 2{:}
DESCRIPTION:Hilkka Norjanens violinelever uppträder. Fritt inträde.
URL:https://kaumo.fi/sv/event/viuluilta-nro-2-2/
LOCATION:Vallmogårds festsal
END:VEVENT
BEGIN:VEVENT
DTSTART;TZID=UTC:20261125T190000
DTEND;TZID=UTC:20261125T190000
DTSTAMP:20260422T104147
CREATED:20260305T085939Z
LAST-MODIFIED:20260305T085939Z
UID:9377-1795633200-1795633200@kaumo.fi
SUMMARY:{:fi}Musiikkia Vallmogårdissa - konserttisarja{:}{:sv}Musik i Vallmogård-konsertserien{:}
DESCRIPTION:Konserten är en del av “Musik i Vallmogård”-konsertserien och genomförs som ett samarbete mellan Grankulla musikinstitut och Grankulla stad. Det är fritt inträde till konserten. \nVarmt välkommen!
URL:https://kaumo.fi/sv/event/musiikkia-vallmogardissa-konserttisarja-13/
LOCATION:Vallmogårds festsal
END:VEVENT
END:VCALENDAR